BEGIN:VCALENDAR
VERSION:2.0
PRODID:-//wp-events-plugin.com//7.2.3.1//EN
TZID:America/Chicago
X-WR-TIMEZONE:America/Chicago
BEGIN:VEVENT
UID:15486@thecmf.com
DTSTART;TZID=America/Chicago:20250530T180000
DTEND;TZID=America/Chicago:20250530T180000
DTSTAMP:20250416T194607Z
URL:https://thecmf.com/events/i-set-my-friends-on-fire-enthronement-bleedi
 ng-truth-stolen-sun/
SUMMARY:I SET MY FRIENDS ON FIRE\, ENTHRONEMENT\, BLEEDING TRUTH\, STOLEN S
 UN
DESCRIPTION:Tickets\nI Set My Friends On Fire\n\nFRI MAY 30TH 2025\n\nDOORS
 : 6:00 PM\n\nSHOW: 7:00 PM\n\nAGE RESTRICTIONS: ALL AGES\n\nLOCATION:\n\nT
 he WC Social Club\n\n920 Roosevelt Rd\nWest Chicago IL 60185\n\nSUPPORTING
  ACTS:\nEnthronement\nBleeding Truth\nStolen Sun\nhttps://www.facebook.com
 /events/1732916157334759
ATTACH;FMTTYPE=image/jpeg:https://thecmf.com/wp-content/uploads/2025/03/49
 1443542_18378985972190126_8870087142138576055_n.jpg
CATEGORIES:All Ages
LOCATION:The WC Social Club\, 920 Roosevelt Rd\, West Chicago\, Illinois\, 
 60185\, United States
GEO:41.85991;-88.189775
X-APPLE-STRUCTURED-LOCATION;VALUE=URI;X-ADDRESS=920 Roosevelt Rd\, West Chi
 cago\, Illinois\, 60185\, United States;X-APPLE-RADIUS=100;X-TITLE=The WC 
 Social Club:geo:41.85991,-88.189775
END:VEVENT
BEGIN:VTIMEZONE
TZID:America/Chicago
X-LIC-LOCATION:America/Chicago
BEGIN:DAYLIGHT
DTSTART:20250309T030000
TZOFFSETFROM:-0600
TZOFFSETTO:-0500
TZNAME:CDT
END:DAYLIGHT
END:VTIMEZONE
END:VCALENDAR