BEGIN:VCALENDAR
VERSION:2.0
PRODID:-//wp-events-plugin.com//7.2.3.1//EN
TZID:America/Chicago
X-WR-TIMEZONE:America/Chicago
BEGIN:VEVENT
UID:16942@thecmf.com
DTSTART;TZID=America/Chicago:20260425T200000
DTEND;TZID=America/Chicago:20260425T200000
DTSTAMP:20260408T045904Z
URL:https://thecmf.com/events/house-of-heavy/
SUMMARY:HOUSE OF HEAVY
DESCRIPTION:\nHOUSE OF HEAVY\nPlaying all your favorites by Slipknot\, Syst
 em of a Down\, Korn\, Limp Bizkit\, Deftones\, Linkin Park\, Bring Me The 
 Horizon\, Spiritbox\, Knocked Loose\, and more. \n\n\n\n\nCobra Lounge\nSa
 t\, Apr 25\, 8:00 PM\n\n\n\n\n$22.50The price you'll pay. No surprises lat
 er.\n\n\n\nAbout\n\n\n\n\nRiot Fest presents...\n\nHouse of Heavy: Nu-Meta
 l | Alt-Metal | Metal-Core Party\n\n\n\n\n\n\nThis is a 17+ event.\n\n\n\n
 \n
ATTACH;FMTTYPE=image/jpeg:https://thecmf.com/wp-content/uploads/2026/04/Ho
 use-Of-Heavy.jpg
CATEGORIES:17+
END:VEVENT
BEGIN:VTIMEZONE
TZID:America/Chicago
X-LIC-LOCATION:America/Chicago
BEGIN:DAYLIGHT
DTSTART:20260308T030000
TZOFFSETFROM:-0600
TZOFFSETTO:-0500
TZNAME:CDT
END:DAYLIGHT
END:VTIMEZONE
END:VCALENDAR