BEGIN:VCALENDAR
VERSION:2.0
PRODID:-//wp-events-plugin.com//7.2.3.1//EN
TZID:America/Chicago
X-WR-TIMEZONE:America/Chicago
BEGIN:VEVENT
UID:16629@thecmf.com
DTSTART;TZID=America/Chicago:20260514T193000
DTEND;TZID=America/Chicago:20260514T193000
DTSTAMP:20260119T080247Z
URL:https://thecmf.com/events/hells-belles/
SUMMARY:HELL’S BELLES
DESCRIPTION:\nHELL’S BELLES – ALL FEMALE AC/DC TRIBUTE endorsed by ANGU
 S YOUNG\n\n\nMay 14 @ 7:30 pm\n\n\n\n\n\nHELL’S BELLES are first and for
 emost dedicated AC/DC fanatics. HELL’S BELLES strives to deliver with me
 chanical precision and passionate fury! Endorsed by Angus Young himself (B
 lender Magazine\, 2003)\, HELL’S BELLES are the closest one can get with
 out actually moving to Australia and joining AC/DC’s road crew. HELL’S
  BELLES are indeed ALL female\, all the way to their rock-n-roll cores\, a
 ll the time and without exception. Consistently sexy and sold-out shows 
 – there’s not a HELL’S BELLES audience that hasn’t been blown away
  by the raw power\, attention to AC/DC details\, and undeniable appeal tha
 t these bad ass belles deliver with undying devotion. From the Angus strip
 ping “Bad Boy Boogie” to “Dirty Deeds” to “TNT”\, not to menti
 on AC/DC’s landmark hits “Highway to Hell”\, “Thunderstruck”\, a
 nd “Back in Black”. The marathon set lists change to include a fresh v
 ariety of classics\, but the perfection and passion of the show never dies
 . It’s an all out rock-n-roll assault that leaves you both satisfied an
 d begging for more. Let there be rock!\nBuy Now\n\n\n\n\nAdd to calendar\
 n\n\n\n\n\nDetails\n\n 	Date:May 14\n 	Time:\n7:30 pm\n 	Event Categories:
 Hard Rock\, Heavy Metal\, Rock Music\n\n\n\nVenue\n\n 	Arcada Theatre\n 
 	105 E Main St\nSt. Charles\, IL 60174 United States\n\n\n\n
ATTACH;FMTTYPE=image/jpeg:https://thecmf.com/wp-content/uploads/2026/01/He
 lls-Belles-web.png.webp
CATEGORIES:All Ages
LOCATION:Arcada Theatre\, 105 E Main St\, Saint Charles\, Illinois\, 60174\
 , United States
GEO:41.916953;-88.294768
X-APPLE-STRUCTURED-LOCATION;VALUE=URI;X-ADDRESS=105 E Main St\, Saint Charl
 es\, Illinois\, 60174\, United States;X-APPLE-RADIUS=100;X-TITLE=Arcada Th
 eatre:geo:41.916953,-88.294768
END:VEVENT
BEGIN:VTIMEZONE
TZID:America/Chicago
X-LIC-LOCATION:America/Chicago
BEGIN:DAYLIGHT
DTSTART:20260308T030000
TZOFFSETFROM:-0600
TZOFFSETTO:-0500
TZNAME:CDT
END:DAYLIGHT
END:VTIMEZONE
END:VCALENDAR