BEGIN:VCALENDAR
VERSION:2.0
PRODID:-//wp-events-plugin.com//7.2.3.1//EN
TZID:America/Chicago
X-WR-TIMEZONE:America/Chicago
BEGIN:VEVENT
UID:16634@thecmf.com
DTSTART;TZID=America/Chicago:20260925T200000
DTEND;TZID=America/Chicago:20260925T200000
DTSTAMP:20260119T081858Z
URL:https://thecmf.com/events/hammerfall-evergrey-elvenking/
SUMMARY:HAMMERFALL\, EVERGREY\, ELVENKING
DESCRIPTION:\nHAMMERFALL with SPECIAL GUESTS EVERGREY and ELVENKING\n\n\nSe
 ptember 25 @ 8:00 pm\n\n\n\n\n\nHAMMERFALL: No matter how much everything 
 changes in culture and the world at large\, heavy metal endures. It empowe
 rs\, engages\, and engenders strength\, ultimately it outlasts fads. The s
 ame can be said for HAMMERFALL. Since forming in Gothenburg\, Sweden in 19
 93\, the now quintet of Oscar Dronjak [guitar]\, Joacim Cans [vocals]\, Fr
 edrik Larsson [bass]\, Pontus Norgen [guitar]\, and David Wallin [drums] h
 ave weathered the many storms of changing trends within the music world to
  stand tall as pioneers who continue to wave the flag of Heavy Metal. In H
 AMMERFALL’s thirty-year career\, the Swedish titans have topped album ch
 arts both in their home country as well as internationally\, sold out tour
 s\, exceeded over 100 million streams and 100 million YouTube views and ov
 er 1.5 million albums sold\, all while earning multiple Grammy nominations
  in Sweden\, continuing to uphold this venerable legacy with each new rele
 ase. Having returned to their label home Nuclear Blast in late 2022\, HAMM
 ERFALL celebrated a career milestone when it was announced that Renegade\,
  Crimson Thunder\, No Sacrifice\, No Victory and Chapter V: Unbent\, Unbow
 ed\, Unbroken had all achieved gold status in Sweden. And stoking the flam
 es higher – it was revealed that Crimson Thunder had surpassed 60\,000 s
 ales and hit Platinum status. In 2023 the band celebrate the success of Cr
 imson Thunder achieving Platinum status in Sweden\, continuing their retro
 spective series\, HAMMERFALL will be releasing its very own 20-Year Annive
 rsary edition. The fourth studio album has been remixed and remastered by 
 Fredrik Nordstrom\, this definitive version will include previously unrele
 ased pre-production tracks a brand-new medley and live acoustic songs.\n\n
 EVERGREY: From Gothenburg\, Sweden’s melodic core\, Evergrey formed in 1
 995 as heavy metal’s electrifying force. Led by singer and guitarist Tom
  S. Englund\, they craft stories of the human psyche\, inner darkness\, an
 d healing through music that resonates deeply. Evergrey stands out with su
 btle innovation—they ignore fads to build tracks that mix sharp riffs\, 
 symphonic waves\, and Englund’s raw\, moving voice.\n\nELVENKING: Elven
 king is an Italian power metal/folk metal band from Sacile – Forging 
 a potent magic stronger than ever by evoking the essence of heavy metal\, 
 pagan metal\, folk and melodic death metal\, Elvenking sets sail to horizo
 ns more distant than ever before\, boldly taking the world by storm with t
 heir quintessentially unique approach to heavy\, powerful music.\nBuy Now\
 n\n\n\n\nAdd to calendar\n\n\n\n\n\nDetails\n\n 	Date:September 25\n 	Time
 :\n8:00 pm\n 	Event Categories:Hard Rock\, Heavy Metal\n\n\n\nVenue\n\n 	
 Arcada Theatre\n 	105 E Main St\nSt. Charles\, IL 60174 United States\n
 \n\n\n
ATTACH;FMTTYPE=image/jpeg:https://thecmf.com/wp-content/uploads/2026/01/Ha
 mmerfall-web.png.webp
CATEGORIES:All Ages
LOCATION:Arcada Theatre\, 105 E Main St\, Saint Charles\, Illinois\, 60174\
 , United States
GEO:41.916953;-88.294768
X-APPLE-STRUCTURED-LOCATION;VALUE=URI;X-ADDRESS=105 E Main St\, Saint Charl
 es\, Illinois\, 60174\, United States;X-APPLE-RADIUS=100;X-TITLE=Arcada Th
 eatre:geo:41.916953,-88.294768
END:VEVENT
BEGIN:VTIMEZONE
TZID:America/Chicago
X-LIC-LOCATION:America/Chicago
BEGIN:DAYLIGHT
DTSTART:20260308T030000
TZOFFSETFROM:-0600
TZOFFSETTO:-0500
TZNAME:CDT
END:DAYLIGHT
END:VTIMEZONE
END:VCALENDAR