BEGIN:VCALENDAR
VERSION:2.0
PRODID:-//wp-events-plugin.com//7.2.3.1//EN
TZID:America/Chicago
X-WR-TIMEZONE:America/Chicago
BEGIN:VEVENT
UID:16809@thecmf.com
DTSTART;TZID=America/Chicago:20260420T200000
DTEND;TZID=America/Chicago:20260420T200000
DTSTAMP:20260303T063555Z
URL:https://thecmf.com/events/gutnoose-gospel-tremors-face-pulp-dogsthrows
 pears/
SUMMARY:GUTNOOSE\, GOSPEL TREMORS\, FACE PULP\, DOGSTHROWSPEARS
DESCRIPTION:\n\n&nbsp\;\n\nGUTNOOSE WILL BE RETURNING TO BURLINGTON BAR AS 
 A HEADLINER IN 4/20 WITH SOME NEW FACES IN GOSPEL TREMORS FACE PULP ANDDOG
 STHROWSPEARS
ATTACH;FMTTYPE=image/jpeg:https://thecmf.com/wp-content/uploads/2026/03/64
 2848345_17928492459227138_6168160826023284712_n-1.jpg
CATEGORIES:All Ages
LOCATION:The Burlington\,  3425 W Fullerton Ave\, Chicago\, Illinois\, 6064
 7\, United States
GEO:41.924351;-87.71318
X-APPLE-STRUCTURED-LOCATION;VALUE=URI;X-ADDRESS= 3425 W Fullerton Ave\, Chi
 cago\, Illinois\, 60647\, United States;X-APPLE-RADIUS=100;X-TITLE=The Bur
 lington:geo:41.924351,-87.71318
END:VEVENT
BEGIN:VTIMEZONE
TZID:America/Chicago
X-LIC-LOCATION:America/Chicago
BEGIN:DAYLIGHT
DTSTART:20260308T030000
TZOFFSETFROM:-0600
TZOFFSETTO:-0500
TZNAME:CDT
END:DAYLIGHT
END:VTIMEZONE
END:VCALENDAR