BEGIN:VCALENDAR
VERSION:2.0
PRODID:-//wp-events-plugin.com//7.2.3.1//EN
TZID:America/Chicago
X-WR-TIMEZONE:America/Chicago
BEGIN:VEVENT
UID:16949@thecmf.com
DTSTART;TZID=America/Chicago:20260612T190000
DTEND;TZID=America/Chicago:20260612T190000
DTSTAMP:20260409T031258Z
URL:https://thecmf.com/events/green-jelly-8/
SUMMARY:GREEN JELLY
DESCRIPTION:Tickets + reserved seats on sale now at https://tinyurl.com/3c
 z6n2ar\nGREEN JELLY&amp\; more tba\nVIDEO:Vice "Local Legends" feature: h
 ttps://www.youtube.com/watch?v=Y1gbEVImANYThree Little Pigs: https://www.
 youtube.com/watch?v=Gtffv9bpB-U\nThis show is all ages\, 21 &amp\; up to d
 rink\n
ATTACH;FMTTYPE=image/jpeg:https://thecmf.com/wp-content/uploads/2026/04/06
 12WC.jpg
CATEGORIES:All Ages
LOCATION:The WC Social Club\, 920 Roosevelt Rd\, West Chicago\, Illinois\, 
 60185\, United States
GEO:41.85991;-88.189775
X-APPLE-STRUCTURED-LOCATION;VALUE=URI;X-ADDRESS=920 Roosevelt Rd\, West Chi
 cago\, Illinois\, 60185\, United States;X-APPLE-RADIUS=100;X-TITLE=The WC 
 Social Club:geo:41.85991,-88.189775
END:VEVENT
BEGIN:VTIMEZONE
TZID:America/Chicago
X-LIC-LOCATION:America/Chicago
BEGIN:DAYLIGHT
DTSTART:20260308T030000
TZOFFSETFROM:-0600
TZOFFSETTO:-0500
TZNAME:CDT
END:DAYLIGHT
END:VTIMEZONE
END:VCALENDAR