BEGIN:VCALENDAR
VERSION:2.0
PRODID:-//wp-events-plugin.com//7.2.3.1//EN
TZID:America/Chicago
X-WR-TIMEZONE:America/Chicago
BEGIN:VEVENT
UID:16631@thecmf.com
DTSTART;TZID=America/Chicago:20260522T200000
DTEND;TZID=America/Chicago:20260522T200000
DTSTAMP:20260119T080914Z
URL:https://thecmf.com/events/great-white-slaughter-5/
SUMMARY:GREAT WHITE\, SLAUGHTER
DESCRIPTION:\nGREAT WHITE // SLAUGHTER\n\n\nMay 22 @ 8:00 pm\n\n\n\n\n\nFor
  Great White to continue to thrive 40 years in the music business\, the ma
 ntra must be\, these songs are bigger than any one member. GRAMMY nominate
 d hard rock legends\, Great White\, are adding onto that line with the say
 ing: expect the unexpected. It’s rock and roll\, baby. The peaks and the
  valleys haven’t stopped– nor has the music. Great White’s ride runs
  deep and its passion for the music goes beyond any depth. To experience t
 heir hits live in concert – “Rock Me\,” “Mista Bone\,” “Save Y
 our Love\,” “House of Broken Love\,” and “Lady Red Light”—is t
 o ride an emotional wave of sultry connections\, arousing lyrics\, and an 
 all-out marathon of hard-hitting orchestrations. Audiences might also hear
  tracks like “Stick It”\, “The Angel Song”\, “Big Time” or one
  of the many deep cuts from Great White’s 13 studio albums.\n\n1990 SLAU
 GHTER hit radio\, MTV and the U.S. touring circuit like a tornado- coming 
 seemingly out of nowhere to roll through everything in its path and turn i
 t upside down. Touring the world with bands that they loved\, Kiss\, Ozzy\
 , and others meant the good times were just a song away\, and their first 
 hit single\, “Up All Night” certainly fit into that mold\, their secon
 d chart-topper\, “Fly To The Angels” was more representative of the sp
 irituality and awareness that goes into most of the band’s music and lyr
 ics. But never were SLAUGHTER more accurately represented that live onstag
 e in front of their legions of devoted fans over the last ten years! SLAUG
 HTER has shown that with perseverance and sheer talent\, a band can surviv
 e and win over the support of fans\, regardless of what others may say abo
 ut the quality of their music. What’s most important is that their music
  is still here and the vast majority of critics who panned them in the pas
 t are not\, and that’s as good as gold.\n\n\nBuy Now\n\n\n\n\nAdd to cal
 endar\n\n\n\n\n\nDetails\n\n 	Date:May 22\n 	Time:\n8:00 pm\n 	Event Categ
 ories:Classic Rock\, Glam Metal\, Glam Rock\, Hard Rock\n\n\n\nVenue\n\
 n 	Arcada Theatre\n 	105 E Main St\nSt. Charles\, IL 60174 United State
 s\n\n\n\n
ATTACH;FMTTYPE=image/jpeg:https://thecmf.com/wp-content/uploads/2026/01/Gr
 eat-White-Slaughter-web-1.png.webp
CATEGORIES:All Ages
LOCATION:Arcada Theatre\, 105 E Main St\, Saint Charles\, Illinois\, 60174\
 , United States
GEO:41.916953;-88.294768
X-APPLE-STRUCTURED-LOCATION;VALUE=URI;X-ADDRESS=105 E Main St\, Saint Charl
 es\, Illinois\, 60174\, United States;X-APPLE-RADIUS=100;X-TITLE=Arcada Th
 eatre:geo:41.916953,-88.294768
END:VEVENT
BEGIN:VTIMEZONE
TZID:America/Chicago
X-LIC-LOCATION:America/Chicago
BEGIN:DAYLIGHT
DTSTART:20260308T030000
TZOFFSETFROM:-0600
TZOFFSETTO:-0500
TZNAME:CDT
END:DAYLIGHT
END:VTIMEZONE
END:VCALENDAR