BEGIN:VCALENDAR
VERSION:2.0
PRODID:-//wp-events-plugin.com//7.2.3.1//EN
TZID:America/Chicago
X-WR-TIMEZONE:America/Chicago
BEGIN:VEVENT
UID:16628@thecmf.com
DTSTART;TZID=America/Chicago:20260508T200000
DTEND;TZID=America/Chicago:20260508T200000
DTSTAMP:20260119T080109Z
URL:https://thecmf.com/events/geoff-tate-5/
SUMMARY:GEOFF TATE
DESCRIPTION:\nGEOFF TATE’S OPERATION: MINDCRIME THE FINAL CHAPTER\n\n\nMa
 y 8 @ 8:00 pm\n\n\n\n\n\nBACK BY POPULAR DEMAND!!! Multi-platinum selling
 \, Grammy nominated singer/songwriter Geoff Tate is best known for his 30-
 plus years as the creative and driving force behind the progressive metal 
 band Queensryche. Since its inception with Geoff at the helm\, Queensryche
  has sold over 20 million albums worldwide and has performed in upwards of
  fifty countries. Geoff is regarded as one of the most skilled vocalists i
 n the genre with hundreds of modern\, popular artists citing him and his f
 ormer band as a major influence. With the release of their landmark concep
 t album Operation: Mindcrime (1988) — which won critical and popular acc
 laim and comparisons to the Who’s Tommy and Pink Floyd’s The Wall — 
 Queensryche went on to bring their progressive music to sold-out audiences
  the world over. In 2014\, it was announced that Geoff and his band mates 
 would be embarking on their farewell tour as Queensryche\, with a subseque
 nt announcement stating that Queensryche with original lead singer Geoff T
 ate would be changing its name to “Operation: Mindcrime” in September 
 for future tours and recordings. In 2025\, Geoff and the current line-up o
 f Operation: Mindcrime\, hit the road to celebrate the final chapter of Op
 eration: Mindcrime\, performing the 1988 landmark concept album from begin
 ning to end in its entirety… It’s a show that Geoff loves to perform a
 nd fans love to see\, only proving that good music never goes out of style
 !\n\nBuy Now\n\n\n\n\nAdd to calendar\n\n\n\n\n\nDetails\n\n 	Date:May 8\n
  	Time:\n8:00 pm\n 	Event Categories:Classic Rock\, Heavy Metal\, Prog. 
 Rock\, Rock Music\n\n\n\nVenue\n\n 	Arcada Theatre\n 	105 E Main St\nSt. 
 Charles\, IL 60174 United States\n\n\n\n
ATTACH;FMTTYPE=image/jpeg:https://thecmf.com/wp-content/uploads/2026/01/Ge
 off-Tate-operation-mindcrime2-empty-space-for-dates-2026-1080-02.png.webp
CATEGORIES:All Ages
LOCATION:Arcada Theatre\, 105 E Main St\, Saint Charles\, Illinois\, 60174\
 , United States
GEO:41.916953;-88.294768
X-APPLE-STRUCTURED-LOCATION;VALUE=URI;X-ADDRESS=105 E Main St\, Saint Charl
 es\, Illinois\, 60174\, United States;X-APPLE-RADIUS=100;X-TITLE=Arcada Th
 eatre:geo:41.916953,-88.294768
END:VEVENT
BEGIN:VTIMEZONE
TZID:America/Chicago
X-LIC-LOCATION:America/Chicago
BEGIN:DAYLIGHT
DTSTART:20260308T030000
TZOFFSETFROM:-0600
TZOFFSETTO:-0500
TZNAME:CDT
END:DAYLIGHT
END:VTIMEZONE
END:VCALENDAR