BEGIN:VCALENDAR
VERSION:2.0
PRODID:-//wp-events-plugin.com//7.2.3.1//EN
TZID:America/Chicago
X-WR-TIMEZONE:America/Chicago
BEGIN:VEVENT
UID:16737@thecmf.com
DTSTART;TZID=America/Chicago:20260516T173000
DTEND;TZID=America/Chicago:20260516T173000
DTSTAMP:20260219T072654Z
URL:https://thecmf.com/events/freak-on-a-leash-chocolate-starfish-white-po
 ny-land-of-linkin-chasing-allura/
SUMMARY:FREAK ON A LEASH\, CHOCOLATE STARFISH\, WHITE PONY\, LAND OF LINKIN
 \, CHASING ALLURA
DESCRIPTION:\n\n\n\n\nTICKETS\n\n\n\n\n\n\n\nFreak On A Leash\, Chicagoland
 ’s Korn Tribute\, invites you to the “A.D.I.D.A.S. Ball” The Ultimat
 e Nu-Metal Throwback Party going down at The Forge on Saturday\, May 16th.
 \n-FREAK ON A LEASH (Chicagoland Korn Tribute)-CHOCOLATE STARFISH (Limp Bi
 zkit Tribute)-WHITE PONY (Deftones Tribute)-LAND OF LINKIN (Linkin Park Tr
 ibute)-CHASING ALLURA\nThis evening is packed with high energy performance
 s from Tributes to Limp Bizkit\, Linkin Park\, Deftones and of course...Ko
 rn!\nBuy One\, Bring A Date Free! May 16 Doors at 5:30PM Tickets On Sal
 e Now\n\n\n
ATTACH;FMTTYPE=image/jpeg:https://thecmf.com/wp-content/uploads/2026/02/05
 16FORGE.jpg
CATEGORIES:All Ages
LOCATION:The Forge\, 22 W Cass St\, Joliet\, Illinois\, 60432\, United Stat
 es
GEO:41.52764;-88.082067
X-APPLE-STRUCTURED-LOCATION;VALUE=URI;X-ADDRESS=22 W Cass St\, Joliet\, Ill
 inois\, 60432\, United States;X-APPLE-RADIUS=100;X-TITLE=The Forge:geo:41.
 52764,-88.082067
END:VEVENT
BEGIN:VTIMEZONE
TZID:America/Chicago
X-LIC-LOCATION:America/Chicago
BEGIN:DAYLIGHT
DTSTART:20260308T030000
TZOFFSETFROM:-0600
TZOFFSETTO:-0500
TZNAME:CDT
END:DAYLIGHT
END:VTIMEZONE
END:VCALENDAR