BEGIN:VCALENDAR
VERSION:2.0
PRODID:-//wp-events-plugin.com//7.2.3.1//EN
TZID:America/Chicago
X-WR-TIMEZONE:America/Chicago
BEGIN:VEVENT
UID:16883@thecmf.com
DTSTART;TZID=America/Chicago:20260509T190000
DTEND;TZID=America/Chicago:20260509T190000
DTSTAMP:20260324T011246Z
URL:https://thecmf.com/events/first-jason/
SUMMARY:FIRST JASON
DESCRIPTION:https://www.facebook.com/events/883424380793710/\nFIRST JASON *
 *CDN RECORDS/LABEL**(Friday the 13th Actor of Jason Vorhee's Ari Lehman's 
 Keytar Horror Themer Rock/Metal Band!)\nLink: https://cdnrecords.com/labe
 l-artists/first-jason/\nWSG:\nJELLIKIT - A Primus Experience\nLink:\n+\nTH
 E BOOG CRÜE - A Ween Experience\nLink:\n+\n!PULSS - A Live Real Time Elec
 tronic Act (not a DJ) performing in between sets!\nLink: https://kevinlux
 .bandcamp.com/\nDoors 7pmShow 7:30pm\nVenue: BaseCamp Pub and Eatry - Lisl
 e IL\n$10 ADV - $15 DAY OF SHOW - $25 Arrive Early + MEET &amp\; GREET w/ 
 Ari Lehman of Friday the 13th The First Jasonin the Franchise !!!\n
ATTACH;FMTTYPE=image/jpeg:https://thecmf.com/wp-content/uploads/2026/03/05
 09basecamp.jpg
CATEGORIES:21+
LOCATION:BaseCamp Pub & Eatery\, 5750 Lakeside Dr\, Lisle\, Illinois\, 6053
 2\, United States
GEO:41.782577;-88.083744
X-APPLE-STRUCTURED-LOCATION;VALUE=URI;X-ADDRESS=5750 Lakeside Dr\, Lisle\, 
 Illinois\, 60532\, United States;X-APPLE-RADIUS=100;X-TITLE=BaseCamp Pub &
  Eatery:geo:41.782577,-88.083744
END:VEVENT
BEGIN:VTIMEZONE
TZID:America/Chicago
X-LIC-LOCATION:America/Chicago
BEGIN:DAYLIGHT
DTSTART:20260308T030000
TZOFFSETFROM:-0600
TZOFFSETTO:-0500
TZNAME:CDT
END:DAYLIGHT
END:VTIMEZONE
END:VCALENDAR