BEGIN:VCALENDAR
VERSION:2.0
PRODID:-//wp-events-plugin.com//7.2.3.1//EN
TZID:America/Chicago
X-WR-TIMEZONE:America/Chicago
BEGIN:VEVENT
UID:11671@thecmf.com
DTSTART;TZID=America/Chicago:20231027T183000
DTEND;TZID=America/Chicago:20231027T183000
DTSTAMP:20231020T225939Z
URL:https://thecmf.com/events/firehouse-steelheart-2/
SUMMARY:FIREHOUSE\, STEELHEART
DESCRIPTION:Tickets\nFirehouse //Steelheart\nFirehouse is taking the stage 
 to give you a long dose of metal.  Get pumped for a night of wild rock n 
 roll that will leave your ears ringing for days to come. You’ll hear all
  of your favorites like\, “Don’t Treat Me Bad”\, ”Love of a Lifeti
 me”\, “All She Wrote”\, “When I Look Into Your Eyes”\, and MORE!
 \n\nThe aptly named SteelHeart is the rock n’ roll band fronted by inter
 nationally known Croatian-American musician Miljenko Matijevic. Miljenko
 ’s powerful multioctave vocal range is and always has been the steel\, h
 eart and soul of what is SteelHeart. With much heart and steely determinat
 ion\, this band has been going strong and rocking hard for 30 years. Playi
 ng your favorites…”I’ll Never Let You go”\, “She’s Gone”\, 
 “Can’t Stop Me Lovin’ You”\, and so many more!\n\nhttps://www.face
 book.com/events/1644756169280574\n\nhttps://www.arcadalive.com/event/fireh
 ouse-steelheart-515/
ATTACH;FMTTYPE=image/jpeg:https://thecmf.com/wp-content/uploads/2023/08/38
 5778436_717781323721026_4417134442863218381_n.jpg
CATEGORIES:All Ages
LOCATION:Arcada Theatre\, 105 E Main St\, Saint Charles\, Illinois\, 60174\
 , United States
GEO:41.916953;-88.294768
X-APPLE-STRUCTURED-LOCATION;VALUE=URI;X-ADDRESS=105 E Main St\, Saint Charl
 es\, Illinois\, 60174\, United States;X-APPLE-RADIUS=100;X-TITLE=Arcada Th
 eatre:geo:41.916953,-88.294768
END:VEVENT
BEGIN:VTIMEZONE
TZID:America/Chicago
X-LIC-LOCATION:America/Chicago
BEGIN:DAYLIGHT
DTSTART:20230312T030000
TZOFFSETFROM:-0600
TZOFFSETTO:-0500
TZNAME:CDT
END:DAYLIGHT
END:VTIMEZONE
END:VCALENDAR