BEGIN:VCALENDAR
VERSION:2.0
PRODID:-//wp-events-plugin.com//7.2.3.1//EN
TZID:America/Chicago
X-WR-TIMEZONE:America/Chicago
BEGIN:VEVENT
UID:16993@thecmf.com
DTSTART;TZID=America/Chicago:20260426T163000
DTEND;TZID=America/Chicago:20260426T163000
DTSTAMP:20260422T024700Z
URL:https://thecmf.com/events/fight-from-within-autumn-lies-buried-eyes-of
 -anguish-subcyst-vent-to-atmosphere-sleeptight/
SUMMARY:FIGHT FROM WITHIN\, AUTUMN LIES BURIED\, EYES OF ANGUISH\, SUBCYST\
 , VENT TO ATMOSPHERE\, SLEEPTIGHT
DESCRIPTION:FIGHT FROM WITHIN\,\nAUTUMN LIES BURIED\,\nEYES OF ANGUISH\,\nS
 UBCYST\,\nVENT TO ATMOSPHERE\,\nSLEEPTIGHT\nTICKETS\nSun\, 26 Apr\, 4:30 P
 M - 10:00\n
ATTACH;FMTTYPE=image/jpeg:https://thecmf.com/wp-content/uploads/2026/04/04
 26FORGE.png
CATEGORIES:All Ages
LOCATION:The Forge\, 22 W Cass St\, Joliet\, Illinois\, 60432\, United Stat
 es
GEO:41.52764;-88.082067
X-APPLE-STRUCTURED-LOCATION;VALUE=URI;X-ADDRESS=22 W Cass St\, Joliet\, Ill
 inois\, 60432\, United States;X-APPLE-RADIUS=100;X-TITLE=The Forge:geo:41.
 52764,-88.082067
END:VEVENT
BEGIN:VTIMEZONE
TZID:America/Chicago
X-LIC-LOCATION:America/Chicago
BEGIN:DAYLIGHT
DTSTART:20260308T030000
TZOFFSETFROM:-0600
TZOFFSETTO:-0500
TZNAME:CDT
END:DAYLIGHT
END:VTIMEZONE
END:VCALENDAR