BEGIN:VCALENDAR
VERSION:2.0
PRODID:-//wp-events-plugin.com//7.2.3.1//EN
TZID:America/Chicago
X-WR-TIMEZONE:America/Chicago
BEGIN:VEVENT
UID:11286@thecmf.com
DTSTART;TZID=America/Chicago:20230817T190000
DTEND;TZID=America/Chicago:20230817T190000
DTSTAMP:20230726T081647Z
URL:https://thecmf.com/events/extreme-living-colour/
SUMMARY:EXTREME\, LIVING COLOUR
DESCRIPTION:Tickets\n\n\nExtreme with special guest Living Colour\n\n\n\nIm
 portant Event Info: MUST BE 21+ TO ATTEND.\nDoors open at 7PM.\nhttps://ww
 w.facebook.com/events/1444620702746590\nhttps://www.hardrockcasinonorthern
 indiana.com/entertainment/events/extreme\n\n\n&nbsp\;
ATTACH;FMTTYPE=image/jpeg:https://thecmf.com/wp-content/uploads/2023/05/34
 2410306_965007178268705_1313437747506330678_n.jpg
CATEGORIES:21+
LOCATION:Hard Rock Casino Northern Indiana\, 5400 W 29th Ave\, Gary\, India
 na\, 46406\, United States
X-APPLE-STRUCTURED-LOCATION;VALUE=URI;X-ADDRESS=5400 W 29th Ave\, Gary\, In
 diana\, 46406\, United States;X-APPLE-RADIUS=100;X-TITLE=Hard Rock Casino 
 Northern Indiana:geo:0,0
END:VEVENT
BEGIN:VTIMEZONE
TZID:America/Chicago
X-LIC-LOCATION:America/Chicago
BEGIN:DAYLIGHT
DTSTART:20230312T030000
TZOFFSETFROM:-0600
TZOFFSETTO:-0500
TZNAME:CDT
END:DAYLIGHT
END:VTIMEZONE
END:VCALENDAR