BEGIN:VCALENDAR
VERSION:2.0
PRODID:-//wp-events-plugin.com//7.2.3.1//EN
TZID:America/Chicago
X-WR-TIMEZONE:America/Chicago
BEGIN:VEVENT
UID:16938@thecmf.com
DTSTART;TZID=America/Chicago:20260425T193000
DTEND;TZID=America/Chicago:20260425T193000
DTSTAMP:20260407T071121Z
URL:https://thecmf.com/events/en-esch-unitcode-machine-project-44/
SUMMARY:EN ESCH\, UNITCODE MACHINE\, PROJECT .44
DESCRIPTION:EN ESCH - LIVE in Chicago!\nEn Esch on his first U.S. Tour in a
 lmost a decade. Expect songs from his solo efforts\, Slick Idiot and of co
 urse KMFDM.\nLegendary ex-KMFDM frontman returns to Rip The System! Don't 
 miss this Godlike experience. Unitcode Machine supports along with project
  .44 celebrating 20 years of 'The System Doesn't Wok'\, Biocarbon 13 + Mor
 bid Circle\n
ATTACH;FMTTYPE=image/jpeg:https://thecmf.com/wp-content/uploads/2026/04/04
 25liars.jpg
CATEGORIES:21+
LOCATION:LiveWire Lounge\, 3394 N Milwaukee Ave\, Chicago\, Illinois\, 6064
 1\, United States
GEO:41.942821;-87.730414
X-APPLE-STRUCTURED-LOCATION;VALUE=URI;X-ADDRESS=3394 N Milwaukee Ave\, Chic
 ago\, Illinois\, 60641\, United States;X-APPLE-RADIUS=100;X-TITLE=LiveWire
  Lounge:geo:41.942821,-87.730414
END:VEVENT
BEGIN:VTIMEZONE
TZID:America/Chicago
X-LIC-LOCATION:America/Chicago
BEGIN:DAYLIGHT
DTSTART:20260308T030000
TZOFFSETFROM:-0600
TZOFFSETTO:-0500
TZNAME:CDT
END:DAYLIGHT
END:VTIMEZONE
END:VCALENDAR