BEGIN:VCALENDAR
VERSION:2.0
PRODID:-//wp-events-plugin.com//7.2.3.1//EN
TZID:America/Chicago
X-WR-TIMEZONE:America/Chicago
BEGIN:VEVENT
UID:11070@thecmf.com
DTSTART;TZID=America/Chicago:20230311T190000
DTEND;TZID=America/Chicago:20230311T190000
DTSTAMP:20230302T015028Z
URL:https://thecmf.com/events/diver-down-black-angus/
SUMMARY:DIVER DOWN\, BLACK ANGUS
DESCRIPTION:Come down to Diver Down's final show at BaseCamp with very spec
 ial guests Black Angus\, the best old school AC/DC tribute in town!
ATTACH;FMTTYPE=image/jpeg:https://thecmf.com/wp-content/uploads/2023/03/03
 11BASE.jpg
CATEGORIES:21+
LOCATION:BaseCamp Pub & Eatery\, 5750 Lakeside Dr\, Lisle\, Illinois\, 6053
 2\, United States
GEO:41.782577;-88.083744
X-APPLE-STRUCTURED-LOCATION;VALUE=URI;X-ADDRESS=5750 Lakeside Dr\, Lisle\, 
 Illinois\, 60532\, United States;X-APPLE-RADIUS=100;X-TITLE=BaseCamp Pub &
  Eatery:geo:41.782577,-88.083744
END:VEVENT
BEGIN:VTIMEZONE
TZID:America/Chicago
X-LIC-LOCATION:America/Chicago
BEGIN:STANDARD
DTSTART:20221106T010000
TZOFFSETFROM:-0500
TZOFFSETTO:-0600
TZNAME:CST
END:STANDARD
END:VTIMEZONE
END:VCALENDAR