BEGIN:VCALENDAR
VERSION:2.0
PRODID:-//wp-events-plugin.com//7.2.3.1//EN
TZID:America/Chicago
X-WR-TIMEZONE:America/Chicago
BEGIN:VEVENT
UID:16709@thecmf.com
DTSTART;TZID=America/Chicago:20260428T173000
DTEND;TZID=America/Chicago:20260428T173000
DTSTAMP:20260209T233828Z
URL:https://thecmf.com/events/defeated-sanity-inferi-organectomy-scasm-beh
 eading-the-icon/
SUMMARY:DEFEATED SANITY\, INFERI\, ORGANECTOMY\, SCASM\, BEHEADING THE ICON
DESCRIPTION:Tickets on sale: https://tinyurl.com/ymda63hn\nDEFEATED SANITYI
 NFERIORGANECTOMYSCASMBEHEADING THE ICON\nVIDEO:The Odour of Sanctity: htt
 ps://www.youtube.com/watch?v=ofVQwWZZeLIImposed Corporeal Inhabitation: h
 ttps://www.youtube.com/watch?v=I5iAhavRVbg\nThis show is all ages\, 21 &am
 p\; up to drink\n
ATTACH;FMTTYPE=image/jpeg:https://thecmf.com/wp-content/uploads/2026/02/63
 0448193_1344560297712624_6277148038744249130_n.jpg
CATEGORIES:All Ages
LOCATION:The WC Social Club\, 920 Roosevelt Rd\, West Chicago\, Illinois\, 
 60185\, United States
GEO:41.85991;-88.189775
X-APPLE-STRUCTURED-LOCATION;VALUE=URI;X-ADDRESS=920 Roosevelt Rd\, West Chi
 cago\, Illinois\, 60185\, United States;X-APPLE-RADIUS=100;X-TITLE=The WC 
 Social Club:geo:41.85991,-88.189775
END:VEVENT
BEGIN:VTIMEZONE
TZID:America/Chicago
X-LIC-LOCATION:America/Chicago
BEGIN:DAYLIGHT
DTSTART:20260308T030000
TZOFFSETFROM:-0600
TZOFFSETTO:-0500
TZNAME:CDT
END:DAYLIGHT
END:VTIMEZONE
END:VCALENDAR