BEGIN:VCALENDAR
VERSION:2.0
PRODID:-//wp-events-plugin.com//7.2.3.1//EN
TZID:America/Chicago
X-WR-TIMEZONE:America/Chicago
BEGIN:VEVENT
UID:16782@thecmf.com
DTSTART;TZID=America/Chicago:20260424T183000
DTEND;TZID=America/Chicago:20260424T183000
DTSTAMP:20260227T002706Z
URL:https://thecmf.com/events/dead-meadow-heavy-temple-waxed/
SUMMARY:DEAD MEADOW\, HEAVY TEMPLE\, WAXED
DESCRIPTION:\n\n&nbsp\;\n\nTICKETS\nDEAD MEADOW\n\n\n\nDead Meadow are a ba
 nd hailing from Washington D.C\, United States who formed in 1998. Since d
 ebuting\, the band have released seven studio albums and become one of the
  most respected cult acts in the world of stoner rock.\nForming from the a
 shes of two D.C based bands called The Impossible Five and Colour\, the fi
 rst incarnation of Dead Meadow was formed by guitarist and vocalist Jason 
 Simon\, bassist Steve Kille and drummer Mark Laughlin. With their seamless
  combination of prime 70’s heavy metal \, 60’s psychedelia and lyrics 
 cribbed from Tolkien and Lovecraft\, the band signed to Fugazi bassist Joe
  Lally’s record label Tolotta Records in 2000\, a mere two years after t
 hey formed. Their self-titled debut album followed in the same year\, whic
 h was so acclaimed that BBC Radio One legend John Peel asked them to recor
 d a session for his evening radio show. However\, as the band couldn’t a
 fford to fly to London and record it\, Dead Meadow became the first band i
 n the session’s 37 year history to... [read more]\n\n\n\n\n\n 	Band Web
 site\n 	Facebook\n 	Instagram\n\n\nHEAVY TEMPLE\n\n\nA trio of psychedelic
  doom metal deviants\, here to take you on a wild ride.\n\n\n\n\n 	Band We
 bsite\n 	Spotify\n 	Facebook\n 	Instagram\n 	Twitter\n\n\nWAXED\n\n\nForme
 d by frontman Luc Richards and guitarist Davis Haley\, Nashville crossover
  thrash quintet Waxed is now a full cadre with Will Alley on bass\, Noel R
 ichards on guitar\, and Ian Sundstrom on drums. Known for the ferocity of 
 their live shows\, Waxed concocts a sludgy brew of heavy riffs\, cutting l
 eads\, and quick turnarounds that make for a truly unique brand of rock n
 ’ roll. Having recently opened up for Jack White and Converge\, their ne
 west single “Big Blind” follows the group’s 2022 debut album Give Up
  and 2023’s Idlewild\, a split EP with local heavy hitters Soot.\n\n“
 ‘Big Blind’ is a song about dominating personal shortcomings by whatev
 er means necessary and failing even still\,” says Richards. “Wherever 
 you go\, there you are. We feel like the song stays true to our sound but 
 also represents our ever evolving approach to songwriting. We write the mu
 sic that we want to hear and strive to never lock ourselves in a box creat
 ively.”\n\n\n\n 	Band Website\n 	Spotify\n 	Facebook\n 	Instagram\n\n\nC
 ORY SHANE\n\n\n\n\n 	6:30 pm Doors\n 	7:30 pm Show\n 	17+\n 	FB Event\n\n\
 n
ATTACH;FMTTYPE=image/jpeg:https://thecmf.com/wp-content/uploads/2026/02/AP
 R-24-Dead-Meadow-FLYER.jpg
CATEGORIES:17+
LOCATION:Reggies Rock Club\, 2109 S State St\, Chicago\, Illinois\, 60616\,
  United States
GEO:41.853951;-87.62679
X-APPLE-STRUCTURED-LOCATION;VALUE=URI;X-ADDRESS=2109 S State St\, Chicago\,
  Illinois\, 60616\, United States;X-APPLE-RADIUS=100;X-TITLE=Reggies Rock 
 Club:geo:41.853951,-87.62679
END:VEVENT
BEGIN:VTIMEZONE
TZID:America/Chicago
X-LIC-LOCATION:America/Chicago
BEGIN:DAYLIGHT
DTSTART:20260308T030000
TZOFFSETFROM:-0600
TZOFFSETTO:-0500
TZNAME:CDT
END:DAYLIGHT
END:VTIMEZONE
END:VCALENDAR