BEGIN:VCALENDAR
VERSION:2.0
PRODID:-//wp-events-plugin.com//7.2.3.1//EN
TZID:America/Chicago
X-WR-TIMEZONE:America/Chicago
BEGIN:VEVENT
UID:16780@thecmf.com
DTSTART;TZID=America/Chicago:20260506T190000
DTEND;TZID=America/Chicago:20260506T190000
DTSTAMP:20260227T001033Z
URL:https://thecmf.com/events/curse-mackey-sine-black-season-witch/
SUMMARY:CURSE MACKEY\, SINE\, BLACK SEASON WITCH
DESCRIPTION:Curse Mackey / SINE / Black Season Witch || Reggies Chicago || 
 May 6 || Doors 7 Show 8 || $15 Advance $20 At the door || 21+\n
ATTACH;FMTTYPE=image/jpeg:https://thecmf.com/wp-content/uploads/2026/02/CU
 RSE-MACKEY-SINE-BLACK-SEASON-WITCH0506.jpg
CATEGORIES:21+
LOCATION:Reggies Music Joint\, 2105 S State St\, Chicago\, Illinois\, 60616
 \, United States
GEO:41.853951;-87.62679
X-APPLE-STRUCTURED-LOCATION;VALUE=URI;X-ADDRESS=2105 S State St\, Chicago\,
  Illinois\, 60616\, United States;X-APPLE-RADIUS=100;X-TITLE=Reggies Music
  Joint:geo:41.853951,-87.62679
END:VEVENT
BEGIN:VTIMEZONE
TZID:America/Chicago
X-LIC-LOCATION:America/Chicago
BEGIN:DAYLIGHT
DTSTART:20260308T030000
TZOFFSETFROM:-0600
TZOFFSETTO:-0500
TZNAME:CDT
END:DAYLIGHT
END:VTIMEZONE
END:VCALENDAR