BEGIN:VCALENDAR
VERSION:2.0
PRODID:-//wp-events-plugin.com//7.2.3.1//EN
TZID:America/Chicago
X-WR-TIMEZONE:America/Chicago
BEGIN:VEVENT
UID:16784@thecmf.com
DTSTART;TZID=America/Chicago:20260507T180000
DTEND;TZID=America/Chicago:20260507T180000
DTSTAMP:20260227T003945Z
URL:https://thecmf.com/events/confessions-of-a-traitor-fight-from-within-e
 xitwounds/
SUMMARY:CONFESSIONS OF A TRAITOR\, FIGHT FROM WITHIN\, EXITWOUNDS
DESCRIPTION:CONFESSIONS OF A TRAITORFIGHT FROM WITHINEXITWOUNDS\nVIDEO:Stil
 l Haunted: https://www.youtube.com/watch?v=ENlz0nCgN70Noble Bloom: https
 ://www.youtube.com/watch?v=fSR_k-4uTLI\nThis show is all ages\, 21 &amp\; 
 up to drink\n
ATTACH;FMTTYPE=image/jpeg:https://thecmf.com/wp-content/uploads/2026/02/05
 07WC.jpg
CATEGORIES:All Ages
LOCATION:The WC Social Club\, 920 Roosevelt Rd\, West Chicago\, Illinois\, 
 60185\, United States
GEO:41.85991;-88.189775
X-APPLE-STRUCTURED-LOCATION;VALUE=URI;X-ADDRESS=920 Roosevelt Rd\, West Chi
 cago\, Illinois\, 60185\, United States;X-APPLE-RADIUS=100;X-TITLE=The WC 
 Social Club:geo:41.85991,-88.189775
END:VEVENT
BEGIN:VTIMEZONE
TZID:America/Chicago
X-LIC-LOCATION:America/Chicago
BEGIN:DAYLIGHT
DTSTART:20260308T030000
TZOFFSETFROM:-0600
TZOFFSETTO:-0500
TZNAME:CDT
END:DAYLIGHT
END:VTIMEZONE
END:VCALENDAR