BEGIN:VCALENDAR
VERSION:2.0
PRODID:-//wp-events-plugin.com//7.2.3.1//EN
TZID:America/Chicago
X-WR-TIMEZONE:America/Chicago
BEGIN:VEVENT
UID:16766@thecmf.com
DTSTART;TZID=America/Chicago:20260503T200000
DTEND;TZID=America/Chicago:20260503T200000
DTSTAMP:20260411T043211Z
URL:https://thecmf.com/events/cmf0405/
SUMMARY:Metal Sunday - May edition - WIN TIX
DESCRIPTION:theCMF Metal Sunday\nMay edition\n5/3 at LiveWire\n&nbsp\;\nWIN
  PAIRS OF TICKETS to:\nSEPULTURA\, EXODUS\, BIOHAZARD\nFriday 5/15 @ Ramov
 a\n\nDARK LORD DAY\nNAPALM DEATH\, MUNICIPAL WASTE\,\nGATECREEPER\, MIDNIG
 HT\, DEADGUY\, CRYPT SERMON\nSaturday 5/16 @ 3 Floyds Brewing\nhttps://the
 cmf.com/events/34543/\n\nTHY ART IS MURDER\, CARNIFEX\, BODYSNATCHER\, 200
  STAB WOUNDS\, INGESTED\, GATES TO HELL\, BODY BOX\nTuesday 5/19 @ Ramova\
 n\nKREATOR\, CARCASS\nWednesday 5/20 @ Ramova\n\nARCHSPIRE\, UNDEATH\,\nCR
 OWN MAGNETAR\, MUTILATION BARBECUE\nFriday 5/22 @ House Of Blues\nand more
  TBD\nCarrie Monster &amp\; Rodney host and spin\ngood music requests take
 n\ntips appreciated\ndrink special:\nPBR &amp\; shot of Malort $6\n\ncmf m
 etal sunday may edition\n5/3 @ LiveWire 3394 N Milwaukee Ave\nChicago\, Il
 linois\, 60641\nNO COVER\n21+\nFACEBOOK EVENT PAGE\nCMF EVENT PAGE:\nhttps
 ://thecmf.com/events/cmf0405\nDoes your Chicagoland heavy music band have 
 new music\nand want to do a listening event at the monthly CMF Metal Sunda
 ys?\nE-mail: info@theCMF.com\n\n\n++++++++++\n\n\nThe Chicago Metal Factor
 y\nwww.theCMF.com\n\nget on The Chicago Metal Factory mailing list here:\n
 https://mailchi.mp/d8a464f81d8f/get-on-the-list\n\njoin theCMF Facebook gr
 oup here:\nhttps://www.facebook.com/groups/140944532613588\n\nfollow theCM
 F on Threads\nhttps://www.threads.net/@chicagometalfactory\n\n\nfollow the
 CMF on Instagram:\nwww.instagram.com/chicagometalfactory\n\nfollow theCMF 
 on X: https://x.com/thecmf\n\n
ATTACH;FMTTYPE=image/jpeg:https://thecmf.com/wp-content/uploads/2026/02/CM
 F-skull-transparent-1.png
CATEGORIES:21+
LOCATION:LiveWire Lounge\, 3394 N Milwaukee Ave\, Chicago\, Illinois\, 6064
 1\, United States
GEO:41.942821;-87.730414
X-APPLE-STRUCTURED-LOCATION;VALUE=URI;X-ADDRESS=3394 N Milwaukee Ave\, Chic
 ago\, Illinois\, 60641\, United States;X-APPLE-RADIUS=100;X-TITLE=LiveWire
  Lounge:geo:41.942821,-87.730414
END:VEVENT
BEGIN:VTIMEZONE
TZID:America/Chicago
X-LIC-LOCATION:America/Chicago
BEGIN:DAYLIGHT
DTSTART:20260308T030000
TZOFFSETFROM:-0600
TZOFFSETTO:-0500
TZNAME:CDT
END:DAYLIGHT
END:VTIMEZONE
END:VCALENDAR