BEGIN:VCALENDAR
VERSION:2.0
PRODID:-//wp-events-plugin.com//7.2.3.1//EN
TZID:America/Chicago
X-WR-TIMEZONE:America/Chicago
BEGIN:VEVENT
UID:16997@thecmf.com
DTSTART;TZID=America/Chicago:20260429T190000
DTEND;TZID=America/Chicago:20260429T190000
DTSTAMP:20260422T032041Z
URL:https://thecmf.com/events/clan-of-xymox-cold-cave-buzz-kull-rosa-ansch
 utz-dj-scary-lady-sarah-2/
SUMMARY:CLAN OF XYMOX & COLD CAVE\, BUZZ KULL\, ROSA ANSCHÜTZ\, DJ SCARY L
 ADY SARAH
DESCRIPTION:Darkwave icons Clan of Xymox + Cold Cave take over Metro on Apr
 il 29th.\n\nClan of Xymox &amp\; Cold Cave\n\nBuzz Kull * Rosa Anschütz *
  DJ Scary Lady Sarah\n\n18+\n\n\n\n\nDoors: 7 pm // Show: 8 pm\n\n\n\n\nMe
 tro\n\n\n\n\ntickets
ATTACH;FMTTYPE=image/jpeg:https://thecmf.com/wp-content/uploads/2026/04/04
 29metro.jpg
CATEGORIES:18+
LOCATION:Metro\, 3730 N Clark St\, Chicago\, Illinois\, 60613\, United Stat
 es
GEO:41.949836;-87.658965
X-APPLE-STRUCTURED-LOCATION;VALUE=URI;X-ADDRESS=3730 N Clark St\, Chicago\,
  Illinois\, 60613\, United States;X-APPLE-RADIUS=100;X-TITLE=Metro:geo:41.
 949836,-87.658965
END:VEVENT
BEGIN:VTIMEZONE
TZID:America/Chicago
X-LIC-LOCATION:America/Chicago
BEGIN:DAYLIGHT
DTSTART:20260308T030000
TZOFFSETFROM:-0600
TZOFFSETTO:-0500
TZNAME:CDT
END:DAYLIGHT
END:VTIMEZONE
END:VCALENDAR