BEGIN:VCALENDAR
VERSION:2.0
PRODID:-//wp-events-plugin.com//7.2.3.1//EN
TZID:America/Chicago
X-WR-TIMEZONE:America/Chicago
BEGIN:VEVENT
UID:16630@thecmf.com
DTSTART;TZID=America/Chicago:20260516T200000
DTEND;TZID=America/Chicago:20260516T200000
DTSTAMP:20260119T080438Z
URL:https://thecmf.com/events/cinderellas-tom-keifer-band/
SUMMARY:CINDERELLA'S TOM KEIFER BAND
DESCRIPTION:\nCINDERELLA’S TOM KEIFER BAND\n\n\nMay 16 @ 8:00 pm\n\n\n\n\
 n\nRock music may sparkle and fade on the charts\, but rock n roll – the
  spirit\, the invincibility\, the fearlessness? That lives forever. There 
 might not be a better example of the unstoppable need to make music\, to k
 nock the odds on their ass\, than Tom Keifer. His story begins as the sing
 er- songwriter\, guitarist and front man of hard rock heavyweights Cindere
 lla. Their bluesy\, no-BS stadium-shakers moved records to the tune of fif
 teen million worldwide and sound tracked just about everybody’s ’80s. 
 Tom Keifer\, is enjoying continued success with is latest project\, #keife
 rband\, releasing two critically acclaimed solo albums “The Way Life Goe
 s” &amp\; “RISE”. Though he possesses all the fire and brimstone of 
 Rock’s greatest front men\, you would be hard pressed to find the versat
 ility and dimension that Keifer brings to a stage. Whether delivering hear
 t wrenching ballads\, such as “Don’t Know What You Got ‘til It’s G
 one”\, channeling the soul of the bluesmen of the past with his slide gu
 itar and lap steel\, or blowing sax on rockers like “Shelter Me”\, Kei
 fer is clearly one of the most unique singers and accomplished musicians i
 n Rock and Roll. Combine that with #keiferband\, Savannah Keifer (Vocals/p
 ercussion/Piano)\, Tony Higbee (Guitar/vocals)\, Billy Mercer (Bass/vocals
 )\, Kendra Chantelle (Vocals/percussion) Kory Myers (Keyboards/Vocals)\, J
 arred Pope\, (Drums) and there is only one possible outcome- A high energy
  rock show combining all the classic hits of Cinderella with new favorites
  from his solo releases that will only leave you wanting more.\nBuy Now\n\
 n\n\n\nAdd to calendar\n\n\n\n\n\nDetails\n\n 	Date:May 16\n 	Time:\n8:00 
 pm\n\n\n\nVenue\n\n 	Arcada Theatre\n 	105 E Main St\nSt. Charles\, IL 6
 0174 United States\n\n\n\n
ATTACH;FMTTYPE=image/jpeg:https://thecmf.com/wp-content/uploads/2026/01/To
 m-Keifer-web.png.webp
CATEGORIES:All Ages
LOCATION:Arcada Theatre\, 105 E Main St\, Saint Charles\, Illinois\, 60174\
 , United States
GEO:41.916953;-88.294768
X-APPLE-STRUCTURED-LOCATION;VALUE=URI;X-ADDRESS=105 E Main St\, Saint Charl
 es\, Illinois\, 60174\, United States;X-APPLE-RADIUS=100;X-TITLE=Arcada Th
 eatre:geo:41.916953,-88.294768
END:VEVENT
BEGIN:VTIMEZONE
TZID:America/Chicago
X-LIC-LOCATION:America/Chicago
BEGIN:DAYLIGHT
DTSTART:20260308T030000
TZOFFSETFROM:-0600
TZOFFSETTO:-0500
TZNAME:CDT
END:DAYLIGHT
END:VTIMEZONE
END:VCALENDAR