BEGIN:VCALENDAR
VERSION:2.0
PRODID:-//wp-events-plugin.com//7.2.3.1//EN
TZID:America/Chicago
X-WR-TIMEZONE:America/Chicago
BEGIN:VEVENT
UID:16867@thecmf.com
DTSTART;TZID=America/Chicago:20260624T190000
DTEND;TZID=America/Chicago:20260624T190000
DTSTAMP:20260318T041709Z
URL:https://thecmf.com/events/christian-death-gene-loves-jezebel-descartes
 -a-kant-black-season-witch/
SUMMARY:CHRISTIAN DEATH\, GENE LOVES JEZEBEL\, DESCARTES A KANT\, BLACK SEA
 SON WITCH
DESCRIPTION:Tickets &amp\; reserved seats on sale now at https://tinyurl.c
 om/yc29bpuw\nCHRISTIAN DEATHGENE LOVES JEZEBELDESCARTES A KANTBLACK SEASON
  WITCH\nVIDEO:Romeo's Distress: https://www.youtube.com/watch?v=y5ooHJtMs
 GY\nThis show is 18 &amp\; up\, 21 &amp\; up to drink\n
ATTACH;FMTTYPE=image/jpeg:https://thecmf.com/wp-content/uploads/2026/03/06
 24WC.jpg
CATEGORIES:18+
LOCATION:The WC Social Club\, 920 Roosevelt Rd\, West Chicago\, Illinois\, 
 60185\, United States
GEO:41.85991;-88.189775
X-APPLE-STRUCTURED-LOCATION;VALUE=URI;X-ADDRESS=920 Roosevelt Rd\, West Chi
 cago\, Illinois\, 60185\, United States;X-APPLE-RADIUS=100;X-TITLE=The WC 
 Social Club:geo:41.85991,-88.189775
END:VEVENT
BEGIN:VTIMEZONE
TZID:America/Chicago
X-LIC-LOCATION:America/Chicago
BEGIN:DAYLIGHT
DTSTART:20260308T030000
TZOFFSETFROM:-0600
TZOFFSETTO:-0500
TZNAME:CDT
END:DAYLIGHT
END:VTIMEZONE
END:VCALENDAR