BEGIN:VCALENDAR
VERSION:2.0
PRODID:-//wp-events-plugin.com//7.2.3.1//EN
TZID:America/Chicago
X-WR-TIMEZONE:America/Chicago
BEGIN:VEVENT
UID:10756@thecmf.com
DTSTART;TZID=America/Chicago:20230727T170000
DTEND;TZID=America/Chicago:20230727T234500
DTSTAMP:20230726T085106Z
URL:https://thecmf.com/events/chicago-domination-fest-2023/
SUMMARY:Chicago Domination Fest 2023
DESCRIPTION:The 8th Edition of the most brutal underground death festival i
 n the US.\nhttps://www.chicagodominationfest.com/\nhttps://www.facebook.co
 m/events/5552737904823623\n\n\nDATES\nTHURSDAY JULY 27TH\, 2023\nDoors: 5:
 00pm / Show Start 5:30pm\nFRIDAY JULY 28TH\, 2023\nDoors: 3:00pm / Show St
 art 4pm​\nSATURDAY JULY 29TH\, 2023\nDoors: 3:00pm / Show Start 4pm​\n
 &nbsp\;\nThe 8th Edition of the most brutal underground death metal festiv
 al in the United States.\nSponsored by: Cali Death Podcast\, OM Apparel\, 
 Artifacts of Brutality Magazine\nTHURSDAY JULY 27TH 2023\n1. GRIEVE (Texas
 )\n2. VITUPERATE (Virginia)\n3. SCAPHISM (Texas)\n4. FOUL DEFORMITY (Nevad
 a)\n5. REVILED (Texas)\n6. EMBODIED TORMENT (California)\n7. STABBING (Tex
 as)\n8. DARKALL SLAVES (France)\n9. DEFEATED SANITY (Germany/US)\n\nFRIDAY
  JULY 28TH 2023\n1. CELESTIAL SERPENT (Illinois)\n2. BASHED IN (Oklahoma)\
 n3. BETWEEN THE KILLINGS (Indiana)\n4. WORMHOLE (Maryland)\n5. PEELING FLE
 SH (Oklahoma)\n6. VIRULENT EXCISION (Illinois)\n7. NECROTICGOREBEAST (Cana
 da)\n8. COGNITIVE (New Jersey)\n9. ANALEPSY (Portugal)\n10. TORSOFUCK (Fin
 land)\n11. VILE (California)\n12. ORIGIN (Kansas)\n\nSATURDAY JULY 29TH 20
 23\n1. EXCRESCENCE (Washington)\n2. INVIRULANT (Arizona)\n3. UNNECESSARY S
 URGERY (Texas)\n4. BLUDGEONED (Washington)\n5. HUMAN ARTIFACTS (Illinois)\
 n6. CENOTAPH (Turkey)\n7. IMMORTAL SUFFERING (New York)\n8. REGURGITATION 
 (Ohio)\n9. BRODEQUIN (Tennessee)\n10. PUTRIDITY (Italy)\n11. CEPHALOTRIPSY
  (California)\n12. MORTICIAN (New York)\n \n\n
ATTACH;FMTTYPE=image/jpeg:https://thecmf.com/wp-content/uploads/2022/11/31
 8773509_6132061600151695_5697135978980365231_n.jpg
CATEGORIES:21+
LOCATION:Brauer House\, 1000 N Rohlwing Rd\, Lombard\, Illinois\,  60148\, 
 United States
GEO:41.905925;-88.034849
X-APPLE-STRUCTURED-LOCATION;VALUE=URI;X-ADDRESS=1000 N Rohlwing Rd\, Lombar
 d\, Illinois\,  60148\, United States;X-APPLE-RADIUS=100;X-TITLE=Brauer Ho
 use:geo:41.905925,-88.034849
END:VEVENT
BEGIN:VTIMEZONE
TZID:America/Chicago
X-LIC-LOCATION:America/Chicago
BEGIN:DAYLIGHT
DTSTART:20230312T030000
TZOFFSETFROM:-0600
TZOFFSETTO:-0500
TZNAME:CDT
END:DAYLIGHT
END:VTIMEZONE
END:VCALENDAR