BEGIN:VCALENDAR
VERSION:2.0
PRODID:-//wp-events-plugin.com//7.2.3.1//EN
TZID:America/Chicago
X-WR-TIMEZONE:America/Chicago
BEGIN:VEVENT
UID:15880@thecmf.com
DTSTART;TZID=America/Chicago:20250722T190000
DTEND;TZID=America/Chicago:20250722T190000
DTSTAMP:20250630T181621Z
URL:https://thecmf.com/events/burt-bacharach-continued-without-a-finding-h
 anzxgruber-plinian/
SUMMARY:BURT BACHARACH\, CONTINUED WITHOUT A FINDING\, HANZXGRUBER\, PLINIA
 N
DESCRIPTION:\n\nBURT BACHARACH\, CONTINUED WITHOUT A FINDING\, HANZXGRUBER\
 , PLINIAN\nBURT BACHARACHunhinged\, hilarious blurcore from New England fe
 at. Tim Morse and Fred Ordonez\, ex-Anal Cunt\, ex-Phlegm\nhttps://burtbac
 harach.bandcamp.com/music\n\nCONTINUED WITHOUT A FINDINGsludge/grind from 
 Weymouth\, Massachusetts formed in 1998 and reformed in 2023 feat. John Gi
 llis (ex-Today is the Day\, ex-Anal Cunt\, ex-Brain Famine\, ex-Intheshit)
 \n\n\nhttps://continuedwithoutafinding.bandcamp.com/album/cwaf\n\n\nLocal 
 Support\nPlinian(Industrial/Death/Doom)\n\n\nhttps://linktr.ee/plinianband
 \n\n\nhanzXgruber\nhttps://hanzxgruber.bandcamp.com/.../fuck-em-if-they-ca
 nt...\nMincecore Terroristas and Liberators of the Asian Dawn
ATTACH;FMTTYPE=image/jpeg:https://thecmf.com/wp-content/uploads/2025/06/79
 a7b987-8c98-458c-95e9-96358767bcb9.jpg
CATEGORIES:21+
LOCATION:LiveWire Lounge\, 3394 N Milwaukee Ave\, Chicago\, Illinois\, 6064
 1\, United States
GEO:41.942821;-87.730414
X-APPLE-STRUCTURED-LOCATION;VALUE=URI;X-ADDRESS=3394 N Milwaukee Ave\, Chic
 ago\, Illinois\, 60641\, United States;X-APPLE-RADIUS=100;X-TITLE=LiveWire
  Lounge:geo:41.942821,-87.730414
END:VEVENT
BEGIN:VTIMEZONE
TZID:America/Chicago
X-LIC-LOCATION:America/Chicago
BEGIN:DAYLIGHT
DTSTART:20250309T030000
TZOFFSETFROM:-0600
TZOFFSETTO:-0500
TZNAME:CDT
END:DAYLIGHT
END:VTIMEZONE
END:VCALENDAR