BEGIN:VCALENDAR
VERSION:2.0
PRODID:-//wp-events-plugin.com//7.2.3.1//EN
TZID:America/Chicago
X-WR-TIMEZONE:America/Chicago
BEGIN:VEVENT
UID:16627@thecmf.com
DTSTART;TZID=America/Chicago:20260425T200000
DTEND;TZID=America/Chicago:20260425T200000
DTSTAMP:20260119T075943Z
URL:https://thecmf.com/events/buckethead-7/
SUMMARY:BUCKETHEAD
DESCRIPTION:\nBUCKETHEAD\n\n\nApril 25 @ 8:00 pm\n\n\n\n\n\nBuckethead wear
 s a KFC bucket on his head and is one of the most mesmerizing\, super-fast
  guitar shredders ever! He has received critical acclaim for his innovativ
 e virtuoso electric guitar playing. His music spans several genres\, inclu
 ding progressive metal\, funk\, blues\, bluegrass\, ambient\, and avant-ga
 rde music. Buckethead was also a member of Guns N’ Roses from 2000 to 20
 04. He has also written and performed music for major motion pictures\, in
 cluding Saw II\, Ghosts of Mars\, Beverly Hills Ninja\, Mortal Kombat\, Mo
 rtal Kombat: Annihilation\, Last Action Hero\, Falling\, and contributed l
 ead guitar to the track “Firebird” featured on the Mighty Morphin Powe
 r Rangers: The Movie soundtrack. Buckethead was credited by Guitar World a
 s ushering in a new era of virtuosity while ranking the release of his 199
 2 debut album Bucketheadland\, the 45th greatest moment in electric guitar
  history. The magazine has also listed him among the “25 all-time weirde
 st guitarists” and the “50 fastest guitarists of all time”. A SERIOU
 S must-see!\nBuy Now\n\n\n\n\nAdd to calendar\n\n\n\nBuy Tickets\n\n\nDeta
 ils\n\n 	Date:April 25\n 	Time:\n8:00 pm\n 	Event Categories:Blues\, Elec
 tronic\, Hard Rock\, Heavy Metal\, Prog. Rock\n\n\n\nVenue\n\n 	Arcada 
 Theatre\n 	105 E Main St\nSt. Charles\, IL 60174 United States\n\n\n\n
ATTACH;FMTTYPE=image/jpeg:https://thecmf.com/wp-content/uploads/2026/01/bu
 ckethead600x600-1.jpg.webp
CATEGORIES:All Ages
LOCATION:Arcada Theatre\, 105 E Main St\, Saint Charles\, Illinois\, 60174\
 , United States
GEO:41.916953;-88.294768
X-APPLE-STRUCTURED-LOCATION;VALUE=URI;X-ADDRESS=105 E Main St\, Saint Charl
 es\, Illinois\, 60174\, United States;X-APPLE-RADIUS=100;X-TITLE=Arcada Th
 eatre:geo:41.916953,-88.294768
END:VEVENT
BEGIN:VTIMEZONE
TZID:America/Chicago
X-LIC-LOCATION:America/Chicago
BEGIN:DAYLIGHT
DTSTART:20260308T030000
TZOFFSETFROM:-0600
TZOFFSETTO:-0500
TZNAME:CDT
END:DAYLIGHT
END:VTIMEZONE
END:VCALENDAR