BEGIN:VCALENDAR
VERSION:2.0
PRODID:-//wp-events-plugin.com//7.2.3.1//EN
TZID:America/Chicago
X-WR-TIMEZONE:America/Chicago
BEGIN:VEVENT
UID:16493@thecmf.com
DTSTART;TZID=America/Chicago:20260502T173000
DTEND;TZID=America/Chicago:20260502T173000
DTSTAMP:20251214T080202Z
URL:https://thecmf.com/events/bloodywood-landrones-ankor-the-pretty-wild/
SUMMARY:BLOODYWOOD\, LANDRONES\, ANKOR\, THE PRETTY WILD
DESCRIPTION:BLOODYWOOD\, LANDRONES\, ANKOR\, THE PRETTY WILD\nVenue: House 
 of Blues Chicago\nDate: Saturday\, May 2\nThis show is for ALL AGES\nTicke
 t Link\n\n
ATTACH;FMTTYPE=image/jpeg:https://thecmf.com/wp-content/uploads/2025/12/St
 atic_Social-Instagram_1080x1350_Bloodywood_2026_Regional_HouseofBluesChica
 go_0502.jpg
CATEGORIES:All Ages
LOCATION:House of Blues\, 329 N Dearborn St\, Chicago\, Illinois\, 60654\, 
 United States
GEO:41.878114;-87.629798
X-APPLE-STRUCTURED-LOCATION;VALUE=URI;X-ADDRESS=329 N Dearborn St\, Chicago
 \, Illinois\, 60654\, United States;X-APPLE-RADIUS=100;X-TITLE=House of Bl
 ues:geo:41.878114,-87.629798
END:VEVENT
BEGIN:VTIMEZONE
TZID:America/Chicago
X-LIC-LOCATION:America/Chicago
BEGIN:DAYLIGHT
DTSTART:20260308T030000
TZOFFSETFROM:-0600
TZOFFSETTO:-0500
TZNAME:CDT
END:DAYLIGHT
END:VTIMEZONE
END:VCALENDAR