BEGIN:VCALENDAR
VERSION:2.0
PRODID:-//wp-events-plugin.com//7.2.3.1//EN
TZID:America/Chicago
X-WR-TIMEZONE:America/Chicago
BEGIN:VEVENT
UID:12038@thecmf.com
DTSTART;TZID=America/Chicago:20240528T173000
DTEND;TZID=America/Chicago:20240528T173000
DTSTAMP:20240528T015845Z
URL:https://thecmf.com/events/bloodbath-primordial-archgoat-severe-torture
 -cardiac-arrest/
SUMMARY:BLOODBATH\, PRIMORDIAL\, ARCHGOAT\, SEVERE TORTURE\, CARDIAC ARREST
DESCRIPTION:\nMaryland Deathfest Presents:\n\n\nBLOODBATH\nPRIMORDIAL\nARCH
 GOAT\nSEVERE TORTURE\nCARDIAC ARREST\n\n\nTuesday\, May 28th 2024\n@ Thali
 a Hall\n\n\nChicago\, IL\n\nTICKETS\n\nhttps://www.facebook.com/events/314
 798381169674\nhttps://deathfests.com/tours/\n\n\n\n\n\n
ATTACH;FMTTYPE=image/jpeg:https://thecmf.com/wp-content/uploads/2023/10/43
 8301514_1036245621200959_5331882852605838623_n.jpg
CATEGORIES:17+
LOCATION:Thalia Hall\, 1807 S Allport St\, Chicago\, Illinois\, 60608\, Uni
 ted States
GEO:41.857822;-87.657483
X-APPLE-STRUCTURED-LOCATION;VALUE=URI;X-ADDRESS=1807 S Allport St\, Chicago
 \, Illinois\, 60608\, United States;X-APPLE-RADIUS=100;X-TITLE=Thalia Hall
 :geo:41.857822,-87.657483
END:VEVENT
BEGIN:VTIMEZONE
TZID:America/Chicago
X-LIC-LOCATION:America/Chicago
BEGIN:DAYLIGHT
DTSTART:20240310T030000
TZOFFSETFROM:-0600
TZOFFSETTO:-0500
TZNAME:CDT
END:DAYLIGHT
END:VTIMEZONE
END:VCALENDAR