BEGIN:VCALENDAR
VERSION:2.0
PRODID:-//wp-events-plugin.com//7.2.3.1//EN
TZID:America/Chicago
X-WR-TIMEZONE:America/Chicago
BEGIN:VEVENT
UID:16589@thecmf.com
DTSTART;TZID=America/Chicago:20260425T180000
DTEND;TZID=America/Chicago:20260425T180000
DTSTAMP:20260318T214600Z
URL:https://thecmf.com/events/behemoth/
SUMMARY:BEHEMOTH\, DEICIDE\, ROTTING CHRIST\, IMMOLATION
DESCRIPTION:\nTICKETS\nSat Apr 25\, 2026 \n\nBehemoth: The Godless IV 2
 026\n\nwith Deicide\, Rotting Christ and Immolation\n\n\n\nThe Vic The
 atre\, Chicago\, IL\, United States | Ages: All Ages\n\nBehemoth will b
 e at The Vic Theatre on 4/25. Full list of tour dates here.\n\n&nbsp\;\n\n
 This trek marks the band's first tour of North America in support of the c
 ritically acclaimed\nnew opus The Shit Ov God\, out now via Nuclear Blast.
 \n\n&nbsp\;\n\nBehemoth have always been known for not shying away from co
 ntroversy\,\nand they most certainly remain true to this approach with the
 ir 13th full-length album.\n\n&nbsp\;\n\nWith such a storied career (34 ye
 ars\, to be exact)\, the Polish metal group shows\nhow they’re still ste
 pping it up with each new album\, music video\, and tour.\nCheck out the i
 ntricate imagery in the music videos for\n“Nomen Barbarvm\,” “The Sh
 adow Elite\,”  “Sowing Salt\,” and the title track “The Shit Ov G
 od.”\n\n&nbsp\;\n\nThe Shit Ov God is definitely their most inflammatory
  and extreme record to date:\nEight songs that go into the fathoms of huma
 nity\, divinity\, and what defiance means in an age where\nindividuality i
 s prized but everyone is clinging to their saviors — musically\, politic
 ally\, or otherwise.\n\n&nbsp\;\n\n"We announce this coming campaign along
 side Deicide\, Rotting Christ\, and Immolation — a convergence of legend
 s\, a true communion of extreme metal's most resolute force…Together\, w
 e summon something greater—an unstoppable procession of darkness across 
 the lands. This is the extreme metal underground standing tall\, unbroken\
 , and merciless. Prepare yourselves\,” the band declares.\n\n&nbsp\;\n\n
 Behemoth Online: Instagram I Facebook I Website I YouTube\n\n
ATTACH;FMTTYPE=image/jpeg:https://thecmf.com/wp-content/uploads/2026/01/be
 hemoth-1080x1080-1.jpg
CATEGORIES:All Ages
LOCATION:The Vic Theatre\, 3145 N Sheffield Ave\, Chicago\, Illinois\, 6065
 7\, United States
GEO:41.939465;-87.65399
X-APPLE-STRUCTURED-LOCATION;VALUE=URI;X-ADDRESS=3145 N Sheffield Ave\, Chic
 ago\, Illinois\, 60657\, United States;X-APPLE-RADIUS=100;X-TITLE=The Vic 
 Theatre:geo:41.939465,-87.65399
END:VEVENT
BEGIN:VTIMEZONE
TZID:America/Chicago
X-LIC-LOCATION:America/Chicago
BEGIN:DAYLIGHT
DTSTART:20260308T030000
TZOFFSETFROM:-0600
TZOFFSETTO:-0500
TZNAME:CDT
END:DAYLIGHT
END:VTIMEZONE
END:VCALENDAR