BEGIN:VCALENDAR
VERSION:2.0
PRODID:-//wp-events-plugin.com//7.2.3.1//EN
TZID:America/Chicago
X-WR-TIMEZONE:America/Chicago
BEGIN:VEVENT
UID:16513@thecmf.com
DTSTART;TZID=America/Chicago:20260522T180000
DTEND;TZID=America/Chicago:20260522T180000
DTSTAMP:20251217T182740Z
URL:https://thecmf.com/events/archspire/
SUMMARY:ARCHSPIRE\, UNDEATH\, CROWN MAGNETAR\, MUTILATION BARBECUE
DESCRIPTION:\nTICKETS\n\nArchspire: Long Roads Big Loads Tour\n\nArchspire\
 , Undeath\, Crown Magnetar\, Mutilation Barbecue\nFri • May 22\, 2026\nD
 oors open at 6PM. Performance begins at 7PM\n17 &amp\; Over\n\n&nbsp\;
ATTACH;FMTTYPE=image/jpeg:https://thecmf.com/wp-content/uploads/2025/12/St
 atic_Social-Instagram_1080x1080_Archspire_2026_Regional_HouseofBluesChicag
 o_0522.jpg
CATEGORIES:17+
LOCATION:House of Blues\, 329 N Dearborn St\, Chicago\, Illinois\, 60654\, 
 United States
GEO:41.878114;-87.629798
X-APPLE-STRUCTURED-LOCATION;VALUE=URI;X-ADDRESS=329 N Dearborn St\, Chicago
 \, Illinois\, 60654\, United States;X-APPLE-RADIUS=100;X-TITLE=House of Bl
 ues:geo:41.878114,-87.629798
END:VEVENT
BEGIN:VTIMEZONE
TZID:America/Chicago
X-LIC-LOCATION:America/Chicago
BEGIN:DAYLIGHT
DTSTART:20260308T030000
TZOFFSETFROM:-0600
TZOFFSETTO:-0500
TZNAME:CDT
END:DAYLIGHT
END:VTIMEZONE
END:VCALENDAR