BEGIN:VCALENDAR
VERSION:2.0
PRODID:-//wp-events-plugin.com//7.2.3.1//EN
TZID:America/Chicago
X-WR-TIMEZONE:America/Chicago
BEGIN:VEVENT
UID:16875@thecmf.com
DTSTART;TZID=America/Chicago:20260605T190000
DTEND;TZID=America/Chicago:20260605T190000
DTSTAMP:20260323T223029Z
URL:https://thecmf.com/events/anvil-midnite-hellion-psyonic-park/
SUMMARY:ANVIL\, MIDNITE HELLION\, PSYONIC PARK
DESCRIPTION:ANVIL ⚒️ POUNDING THE PAST TOUR\nLIVE IN WEST CHICAGO ON FR
 I JUNE 5\n️ TICKETS https://tinyurl.com/yc6v45xb\n EVENT https://www.fac
 ebook.com/events/1666201767902634\n\nTickets + reserved seats on sale now 
 at https://tinyurl.com/yc6v45xb\nANVILMIDNITE HELLIONPSYONIC PARK\nVIDEO:
 Metal On Metal: https://www.youtube.com/watch?v=jDC2e6i6Quw\nThis show is
  all ages\, 21 &amp\; up to drink
ATTACH;FMTTYPE=image/jpeg:https://thecmf.com/wp-content/uploads/2026/03/06
 05wc.jpg
CATEGORIES:All Ages
LOCATION:The WC Social Club\, 920 Roosevelt Rd\, West Chicago\, Illinois\, 
 60185\, United States
GEO:41.85991;-88.189775
X-APPLE-STRUCTURED-LOCATION;VALUE=URI;X-ADDRESS=920 Roosevelt Rd\, West Chi
 cago\, Illinois\, 60185\, United States;X-APPLE-RADIUS=100;X-TITLE=The WC 
 Social Club:geo:41.85991,-88.189775
END:VEVENT
BEGIN:VTIMEZONE
TZID:America/Chicago
X-LIC-LOCATION:America/Chicago
BEGIN:DAYLIGHT
DTSTART:20260308T030000
TZOFFSETFROM:-0600
TZOFFSETTO:-0500
TZNAME:CDT
END:DAYLIGHT
END:VTIMEZONE
END:VCALENDAR