BEGIN:VCALENDAR
VERSION:2.0
PRODID:-//wp-events-plugin.com//7.2.3.1//EN
TZID:America/Chicago
X-WR-TIMEZONE:America/Chicago
BEGIN:VEVENT
UID:16508@thecmf.com
DTSTART;TZID=America/Chicago:20260512T183000
DTEND;TZID=America/Chicago:20260512T183000
DTSTAMP:20260401T035224Z
URL:https://thecmf.com/events/all-that-remains-born-of-osiris-dead-eyes-fr
 om-ashes-to-embers/
SUMMARY:ALL THAT REMAINS\, BORN OF OSIRIS\, DEAD EYES\, EYES OF ANGUISH
DESCRIPTION: ALL THAT REMAINS \n The Forge — Joliet\, IL\n May 12 | Doors
  6:30PM\n\nAll That Remains\, Born Of Osiris\, Dead Eyes\nDate: May 12\, 
 2026\nDoors: 6:30PM\nLocation: The Forge - Joliet\, IL\nTICKETS\nAudienc
 e: All Ages\n
ATTACH;FMTTYPE=image/jpeg:https://thecmf.com/wp-content/uploads/2025/12/05
 12forge.jpg
CATEGORIES:All Ages
LOCATION:The Forge\, 22 W Cass St\, Joliet\, Illinois\, 60432\, United Stat
 es
GEO:41.52764;-88.082067
X-APPLE-STRUCTURED-LOCATION;VALUE=URI;X-ADDRESS=22 W Cass St\, Joliet\, Ill
 inois\, 60432\, United States;X-APPLE-RADIUS=100;X-TITLE=The Forge:geo:41.
 52764,-88.082067
END:VEVENT
BEGIN:VTIMEZONE
TZID:America/Chicago
X-LIC-LOCATION:America/Chicago
BEGIN:DAYLIGHT
DTSTART:20260308T030000
TZOFFSETFROM:-0600
TZOFFSETTO:-0500
TZNAME:CDT
END:DAYLIGHT
END:VTIMEZONE
END:VCALENDAR