BEGIN:VCALENDAR
VERSION:2.0
PRODID:-//wp-events-plugin.com//7.2.3.1//EN
TZID:America/Chicago
X-WR-TIMEZONE:America/Chicago
BEGIN:VEVENT
UID:16770@thecmf.com
DTSTART;TZID=America/Chicago:20260623T200000
DTEND;TZID=America/Chicago:20260623T200000
DTSTAMP:20260226T230359Z
URL:https://thecmf.com/events/acherontas-cabra-negra-lord-of-horns/
SUMMARY:ACHERONTAS\, CABRA NEGRA\, LORD OF HORNS
DESCRIPTION:-Acherontashttps://youtu.be/OXpCAm9kvm0?si=ifuvXa3NFyXwmPgF\nwi
 th Support from:\n-Cabra Negra (Colombia)https://youtu.be/yGMwQjdAkEA?si=B
 QFi3Pf4nU6sVQ0_\n-Lord of Horns (Usa)https://youtu.be/geXRg_SjXkI?si=5Oh3z
 j1uOk_jAsi2\nAt The Village Spirit Pub8PM\n
ATTACH;FMTTYPE=image/jpeg:https://thecmf.com/wp-content/uploads/2026/02/06
 23villagepub.jpg
CATEGORIES:All Ages
LOCATION:The Village Spirit Pub\, 1123 N Cedar Lake Rd\, Round Lake Beach\,
  Illinois\, 60073\, United States
X-APPLE-STRUCTURED-LOCATION;VALUE=URI;X-ADDRESS=1123 N Cedar Lake Rd\, Roun
 d Lake Beach\, Illinois\, 60073\, United States;X-APPLE-RADIUS=100;X-TITLE
 =The Village Spirit Pub:geo:0,0
END:VEVENT
BEGIN:VTIMEZONE
TZID:America/Chicago
X-LIC-LOCATION:America/Chicago
BEGIN:DAYLIGHT
DTSTART:20260308T030000
TZOFFSETFROM:-0600
TZOFFSETTO:-0500
TZNAME:CDT
END:DAYLIGHT
END:VTIMEZONE
END:VCALENDAR