BEGIN:VCALENDAR
VERSION:2.0
PRODID:-//wp-events-plugin.com//7.2.3.1//EN
TZID:America/Chicago
X-WR-TIMEZONE:America/Chicago
BEGIN:VEVENT
UID:16954@thecmf.com
DTSTART;TZID=America/Chicago:20260430T190000
DTEND;TZID=America/Chicago:20260430T190000
DTSTAMP:20260409T054402Z
URL:https://thecmf.com/events/a-wilhelm-scream-la-armada-goldwaite-burn-re
 build/
SUMMARY:A WILHELM SCREAM\, LA ARMADA\, GOLDWAITE\, BURN REBUILD
DESCRIPTION:\n\nA Wilhelm Scream / La Armada / Goldwaite\nMain Stage at Cob
 ra Lounge\nThu\, Apr 30\, 7:00 PM\n\n\n\n\n\nAbout A Wilhelm Scream\n\n\n\
 nNew Bedford\, Massachusetts’ trailblazers in A WILHELM SCREAM are back 
 with their sixth full-length studio LP\, “Cheap Heat”\, out February 2
 7th via Creator-Destructor Records.\n\nJust over three years after their l
 ast LP\, “Lose Your Delusion” (2022)\, the band have come out the gate
  swingin’ harder than ever with ten tracks of adrenaline fueled melodic 
 hardcore / punk rock. Combining the dark nihilistic mood of the band’s c
 lassic 2005 album “Ruiner” with the technicality\, ferocity\, and shar
 p precision of 2007’s monumental “Career Suicide”\, the new full-len
 gth record is a unique hybrid of the darker\, more aggressive elements of 
 the band’s sound.\n\nNever bowing to trends\, riding anyone’s waves\, 
 never breaking up and getting back together again\, the Massachusetts five
  piece are back with ten fierce new tracks. Non-stop riffs\, soaring hooks
 \, an unrelenting and incomparable rhythm section\, and more piss and vine
 gar than ever before. There’s no one quite like A Wilhelm Scream - An am
 algamation of punk rock\, metal\, and hardcore\, the band has always been 
 an island of their own\, since forever. The underdogs that can’t be kill
 ed. Unapologetic in their delivery\, “Cheap Heat” reminds the music wo
 rld that no one does it like the boys from New Beige.\n\n“We gave out al
 l our flowers and gratitude that we got left in this world on our last two
  records and it’s time to TURN HEEL for the good of the game.”\n\n\n\n
 \n\nEvent information\n\n\n\n\nRiot Fest presents...\n\nA Wilhelm Scream\n
 La Armada\nGoldwaite\nBurn Rebuild\n\n$35 ADV // $43 DOS - All Ticket pric
 es inclusive of taxes and fees. What you see is what you pay\, no surprise
 s later.\n\n&nbsp\;\n\n\n\n\n
ATTACH;FMTTYPE=image/jpeg:https://thecmf.com/wp-content/uploads/2026/04/d9
 117216-251e-4488-9986-d143.avif
CATEGORIES:17+
LOCATION:Cobra Lounge\, 235 N Ashland Ave\, Chicago\, Illinois\, 60607\, Un
 ited States
GEO:41.886381;-87.666786
X-APPLE-STRUCTURED-LOCATION;VALUE=URI;X-ADDRESS=235 N Ashland Ave\, Chicago
 \, Illinois\, 60607\, United States;X-APPLE-RADIUS=100;X-TITLE=Cobra Loung
 e:geo:41.886381,-87.666786
END:VEVENT
BEGIN:VTIMEZONE
TZID:America/Chicago
X-LIC-LOCATION:America/Chicago
BEGIN:DAYLIGHT
DTSTART:20260308T030000
TZOFFSETFROM:-0600
TZOFFSETTO:-0500
TZNAME:CDT
END:DAYLIGHT
END:VTIMEZONE
END:VCALENDAR