BEGIN:VCALENDAR
VERSION:2.0
PRODID:-//wp-events-plugin.com//7.2.3.1//EN
TZID:America/Chicago
X-WR-TIMEZONE:America/Chicago
BEGIN:VEVENT
UID:16476@thecmf.com
DTSTART;TZID=America/Chicago:20260523T190000
DTEND;TZID=America/Chicago:20260523T190000
DTSTAMP:20260220T020220Z
URL:https://thecmf.com/events/33852/
SUMMARY:D.R.I.\, DEATHWISH\, SUPREME MYSTIC\, FASTPLANTS\, BRAINBLEED
DESCRIPTION:\nD.R.I.\nDEATHWISH\nSUPREME MYSTIC\nFASTPLANTS\nBRAINBLEED\nht
 tps://reggieslive.com/show/d-r-i-6/\n\n\nD.R.I.\n\n\n\n\n\nDirty Rotten Im
 beciles (also known as D.R.I.) are a United States hardcore punk/thrashcor
 e/crossover thrash band that formed in Houston\, Texas\, in 1982. The band
  currently comprises founding members\, vocalist Kurt Brecht and guitarist
  Spike Cassidy\, as well as drummer Rob Rampy and bassist Harald Oimoen.\n
 \nD.R.I. never gained a mainstream audience\, but the integration of their
  hardcore punk roots with thrash metal influences was a stylistic catalyst
  for their contemporaries —most notably Suicidal Tendencies\, Corrosion 
 of Conformity\, and Stormtroopers of Death— alongside whom they are cons
 idered pioneers of what would later be called “crossover thrash.” This
  subgenre was also coined from their 1987 album Crossover.\n\n\n\n\n\n\n\n
 \n 	Band Website\n 	Spotify\n 	Facebook\n 	Instagram\n\n\n\n\n\n 	\n\nD.R.
 I.\n\n\n\n\n\nDirty Rotten Imbeciles (also known as D.R.I.) are a United S
 tates hardcore punk/thrashcore/crossover thrash band that formed in Housto
 n\, Texas\, in 1982. The band currently comprises founding members\, vocal
 ist Kurt Brecht and guitarist Spike Cassidy\, as well as drummer Rob Rampy
  and bassist Harald Oimoen.\n\nD.R.I. never gained a mainstream audience\,
  but the integration of their hardcore punk roots with thrash metal influe
 nces was a stylistic catalyst for their contemporaries —most notably Sui
 cidal Tendencies\, Corrosion of Conformity\, and Stormtroopers of Death—
  alongside whom they are considered pioneers of what would later be called
  “crossover thrash.” This subgenre was also coined from their 1987 alb
 um Crossover.\n\n\n\n\n\n\n\n\n 	Band Website\n 	Spotify\n 	Facebook\n 	In
 stagram\n\n\nDEATHWISH\n\n\n“Old school Speed Punk” aka motor-charge p
 unk / signed to Beer-city skateboards and records for Lp/cd 3 record deal.
  Tape on Bezerker and OSD press\n\nmembers are :\nbass and vox : bitty\ngu
 itar and vox : guinea pig champion\nguitar : jimmy claypool\nDrums : s. w.
  macleod\n\n\n\n 	Facebook\n\n\nSUPREME MYSTIC\n\n\nSupreme Mystic is the 
 intersection where stoner rock and post hardcore collide into a unique ble
 nd of heavy music. A new venture comprised of fixtures from the Hardcore /
  Punk world embarking on a stylistic departure\; while simultaneously draw
 ing from a lifetime of musical warfare. Their debut offering ‘Kala Rupa
 ’ is a thematic journey blending relatable contemplations into eastern m
 ysticism.\n\nIn the industrial belly of Detroit\, where machine noise &amp
 \; rebellion pulse in equal measure\, a new sound has emerged. It is furio
 us\, transcendental\, and carries something older than anger and louder th
 an distortion. That sound is the untameable heavy music force Supreme Myst
 ic. Defying categorization\, their sound\, described as Mo-Metal / Def Roc
  is a bold hybrid. Comprised of heavy stoner rock\, post metal grit\, spir
 itual mysticism\, and raw Detroit power.\n\n\n\n\n 	Band Website\n 	Facebo
 ok\n 	Instagram\n\n\nFASTPLANTS\n\nFastplants are a punk/skate rock band f
 rom Chicago\, Illinois. Fastplants formed in 2013 and have been actively r
 ecording and touring since 2015. To date the band has released two EP’s\
 , two split LP’s\, a tribute 7”\, and one full length LP. Fastplants h
 ave shared the stage with Agent Orange\, The Supersuckers\, Zeke\, Murphy
 ’s Law\, Teenage Bottlerocket\, The Stitches\, McRad\, Angry Samoan\, Fi
 eld Day\, Urethane\, Radkey and were direct support for D.R.I on their 201
 9 Southwest/US tour. Fastplants have worked with Beercity Records\, NotLik
 eYou Records and Beercan Records.\nFastplants:\n\nMatt Anzelone – guita
 r/vox.\nMarc Harman – drums.\nAbe Linders – guitar/vox.\nSteve Sacke
 tt – bass.\n\n\n\n\n 	Band Website\n 	Spotify\n 	Facebook\n 	Instagram\
 n\n\nBRAINBLEED\n\n\nCreated as the world closed down\, pre-pandemic exper
 imental recording driven BRAINBLEED turned quickly into a live venue-lovin
 g crossover calamity. As the plague surrendered\, BRAINBLEED invites the l
 istener through lightning fast sets to engage with the darker state of aff
 airs like creeping isolation\, injustice\, inequality\, and not puking on 
 our couch.\n\n\n\n\n\n\n 	Facebook\n 	Instagram\n\n\n\n\n\n 	7:00 pm Doors
 \n 	8:00 pm Show\n 	17+\n 	FB Event\n\n\n\n\n\n
ATTACH;FMTTYPE=image/jpeg:https://thecmf.com/wp-content/uploads/2025/12/MA
 Y-23-DRI-flyer-2-388x600-1.jpg
CATEGORIES:17+
LOCATION:Reggies Rock Club\, 2109 S State St\, Chicago\, Illinois\, 60616\,
  United States
GEO:41.853951;-87.62679
X-APPLE-STRUCTURED-LOCATION;VALUE=URI;X-ADDRESS=2109 S State St\, Chicago\,
  Illinois\, 60616\, United States;X-APPLE-RADIUS=100;X-TITLE=Reggies Rock 
 Club:geo:41.853951,-87.62679
END:VEVENT
BEGIN:VTIMEZONE
TZID:America/Chicago
X-LIC-LOCATION:America/Chicago
BEGIN:DAYLIGHT
DTSTART:20260308T030000
TZOFFSETFROM:-0600
TZOFFSETTO:-0500
TZNAME:CDT
END:DAYLIGHT
END:VTIMEZONE
END:VCALENDAR